BEGIN:VCALENDAR
VERSION:2.0
PRODID:-//Diócesis Teruel - ECPv6.15.18//NONSGML v1.0//EN
CALSCALE:GREGORIAN
METHOD:PUBLISH
X-WR-CALNAME:Diócesis Teruel
X-ORIGINAL-URL:https://www.diocesisdeteruel.org
X-WR-CALDESC:Eventos para Diócesis Teruel
REFRESH-INTERVAL;VALUE=DURATION:PT1H
X-Robots-Tag:noindex
X-PUBLISHED-TTL:PT1H
BEGIN:VTIMEZONE
TZID:Europe/Paris
BEGIN:DAYLIGHT
TZOFFSETFROM:+0100
TZOFFSETTO:+0200
TZNAME:CEST
DTSTART:20250330T010000
END:DAYLIGHT
BEGIN:STANDARD
TZOFFSETFROM:+0200
TZOFFSETTO:+0100
TZNAME:CET
DTSTART:20251026T010000
END:STANDARD
BEGIN:DAYLIGHT
TZOFFSETFROM:+0100
TZOFFSETTO:+0200
TZNAME:CEST
DTSTART:20260329T010000
END:DAYLIGHT
BEGIN:STANDARD
TZOFFSETFROM:+0200
TZOFFSETTO:+0100
TZNAME:CET
DTSTART:20261025T010000
END:STANDARD
BEGIN:DAYLIGHT
TZOFFSETFROM:+0100
TZOFFSETTO:+0200
TZNAME:CEST
DTSTART:20270328T010000
END:DAYLIGHT
BEGIN:STANDARD
TZOFFSETFROM:+0200
TZOFFSETTO:+0100
TZNAME:CET
DTSTART:20271031T010000
END:STANDARD
END:VTIMEZONE
BEGIN:VEVENT
DTSTART;TZID=Europe/Paris:20260529T200000
DTEND;TZID=Europe/Paris:20260529T210000
DTSTAMP:20260424T183756
CREATED:20260420T111524Z
LAST-MODIFIED:20260421T053044Z
UID:10001036-1780084800-1780088400@www.diocesisdeteruel.org
SUMMARY:"Verbum"\, noche de música\, danza y poesía
DESCRIPTION:29 de mayo \nNoche de música\, danza y poesía Catedral de Teruel\, 20:00 horas \nVerbum \nLuis Arturo Giménez Alamán\, delegado diocesano de Primer Anuncio-Atrio de los gentiles\, y Máximo Manuel Saz Martín\, músico\, coords. \nEl relato bíblico de la creación es uno de los textos literarios con más trascendencia universal. Para cualquier artista supone una fuente de inspiración inagotable. Su riqueza en imágenes es tal que toda disciplina creativa puede manifestarse de una manera privilegiada en el devenir de sus jornadas. \nEn Verbum\, música\, poesía\, danza y puesta en escena se dan la mano para dar a luz una creación que nos conecta con la tierra\, con el cielo y con nuestra naturaleza más primigenia. \nDentro del ciclo «Entre la Tierra y el Cielo».
URL:https://www.diocesisdeteruel.org/event/verbum-noche-de-musica-danza-y-poesia/
LOCATION:Catedral de Teruel\, Teruel\, Teruel\, 44001\, España
ATTACH;FMTTYPE=image/jpeg:https://www.diocesisdeteruel.org/wp-content/uploads/2026/04/cartelverbumweb-2.jpg
ORGANIZER;CN="Di%C3%B3cesis de Teruel y Albarrac%C3%ADn":MAILTO:tesecre@planalfa.es
GEO:40.3417974;-1.1137191
END:VEVENT
END:VCALENDAR